BEGIN:VCALENDAR
VERSION:2.0
PRODID:-//Squarespace Inc/Squarespace 6//v6//EN
BEGIN:VEVENT
UID:58c27d0046c3c4b8bc45b21b@squarespace.com
DTSTAMP:20170502T074113Z
DTSTART:20170501T000000Z
DTEND:20170531T090000Z
SUMMARY:May
END:VEVENT
END:VCALENDAR
