BEGIN:VCALENDAR
VERSION:2.0
PRODID:-//Squarespace Inc/Squarespace 6//v6//EN
BEGIN:VEVENT
UID:5cdacda424a694cb4997ee2f@squarespace.com
DTSTAMP:20190830T025820Z
DTSTART:20190801T000000Z
DTEND:20190831T080000Z
SUMMARY:August
END:VEVENT
END:VCALENDAR
