BEGIN:VCALENDAR
VERSION:2.0
PRODID:-//Squarespace Inc/Squarespace 6//v6//EN
BEGIN:VEVENT
UID:5d855175933b993c029933fc@squarespace.com
DTSTAMP:20190920T222507Z
DTSTART:20191130T230000Z
DTEND:20191231T073000Z
SUMMARY:December
END:VEVENT
END:VCALENDAR
