BEGIN:VCALENDAR
VERSION:2.0
PRODID:-//Squarespace Inc/Squarespace 6//v6//EN
BEGIN:VEVENT
UID:5b406c87575d1f11415b0038@squarespace.com
DTSTAMP:20180707T073354Z
DTSTART:20180801T000000Z
DTEND:20180831T080000Z
SUMMARY:August
END:VEVENT
END:VCALENDAR
