BEGIN:VCALENDAR
VERSION:2.0
PRODID:-//Squarespace Inc/Squarespace 6//v6//EN
BEGIN:VEVENT
UID:5acc931303ce649b2a95daec@squarespace.com
DTSTAMP:20180410T103443Z
DTSTART:20180701T000000Z
DTEND:20180731T070000Z
SUMMARY:July
END:VEVENT
END:VCALENDAR
