BEGIN:VCALENDAR
VERSION:2.0
PRODID:-//Squarespace Inc/Squarespace 6//v6//EN
BEGIN:VEVENT
UID:5a73266b8165f596c6f42b61@squarespace.com
DTSTAMP:20180410T103059Z
DTSTART:20180401T000000Z
DTEND:20180430T080000Z
SUMMARY:April
END:VEVENT
END:VCALENDAR
