BEGIN:VCALENDAR
VERSION:2.0
PRODID:-//Squarespace Inc/Squarespace 6//v6//EN
BEGIN:VEVENT
UID:5a331ad5e4966b79a05c5c13@squarespace.com
DTSTAMP:20180201T143802Z
DTSTART:20180131T230000Z
DTEND:20180228T070000Z
SUMMARY:February
END:VEVENT
END:VCALENDAR
