BEGIN:VCALENDAR
VERSION:2.0
PRODID:-//Squarespace Inc/Squarespace 6//v6//EN
BEGIN:VEVENT
UID:5b406e11f950b79dc36009ac@squarespace.com
DTSTAMP:20180715T082515Z
DTSTART:20181031T230000Z
DTEND:20181130T070000Z
SUMMARY:November
END:VEVENT
END:VCALENDAR
